BEGIN:VCALENDAR
VERSION:2.0
PRODID:icalendar-ruby
CALSCALE:GREGORIAN
BEGIN:VTIMEZONE
TZID:UTC
BEGIN:STANDARD
DTSTART:19700101T000000
TZOFFSETFROM:+0000
TZOFFSETTO:+0000
TZNAME:UTC
END:STANDARD
END:VTIMEZONE
BEGIN:VEVENT
DTSTAMP:20260420T093206Z
UID:dd985c9c-fc74-4823-bb4e-8da707d0327e
DTSTART:20250214T020000Z
DTEND:20250214T050000Z
DESCRIPTION:AD2L
SUMMARY:Killer Clowns vs. Little Rascals
URL:http://dota.playon.gg/matches/19072
END:VEVENT
BEGIN:VEVENT
DTSTAMP:20260420T093206Z
UID:5784c6e3-922d-4aca-bf3d-2c9652aaa515
DTSTART:20250221T020000Z
DTEND:20250221T050000Z
DESCRIPTION:AD2L
SUMMARY:Killer Clowns vs. wot the freak
URL:http://dota.playon.gg/matches/19117
END:VEVENT
BEGIN:VEVENT
DTSTAMP:20260420T093206Z
UID:c00fc8ca-d745-48e5-ab55-50c8e95051f9
DTSTART:20250228T020000Z
DTEND:20250228T050000Z
DESCRIPTION:AD2L
SUMMARY:Killer Clowns vs. Brick by Brick
URL:http://dota.playon.gg/matches/19153
END:VEVENT
BEGIN:VEVENT
DTSTAMP:20260420T093206Z
UID:0b047c32-8c32-4eb4-863a-502e1f7d3a76
DTSTART:20250307T020000Z
DTEND:20250307T050000Z
DESCRIPTION:AD2L
SUMMARY:Killer Clowns vs. Heroic Bye Week
URL:http://dota.playon.gg/matches/19163
END:VEVENT
BEGIN:VEVENT
DTSTAMP:20260420T093206Z
UID:8f209d7a-0ad6-4fc5-8d70-ebfd13052e4a
DTSTART:20250131T020000Z
DTEND:20250131T050000Z
DESCRIPTION:AD2L
SUMMARY:Egged and Pegged vs. Killer Clowns
URL:http://dota.playon.gg/matches/18995
END:VEVENT
BEGIN:VEVENT
DTSTAMP:20260420T093206Z
UID:92b8c8e8-cda4-44af-a396-fbeeea7d6b8c
DTSTART:20250207T020000Z
DTEND:20250207T050000Z
DESCRIPTION:AD2L
SUMMARY:Midlife Midas vs. Killer Clowns
URL:http://dota.playon.gg/matches/19019
END:VEVENT
BEGIN:VEVENT
DTSTAMP:20260420T093206Z
UID:d71ea2d5-9301-4939-bd75-5e6bee20352e
DTSTART:20250314T010000Z
DTEND:20250314T040000Z
DESCRIPTION:AD2L
SUMMARY:AkuAku vs. Killer Clowns
URL:http://dota.playon.gg/matches/19212
END:VEVENT
END:VCALENDAR
