BEGIN:VCALENDAR
VERSION:2.0
PRODID:icalendar-ruby
CALSCALE:GREGORIAN
BEGIN:VTIMEZONE
TZID:UTC
BEGIN:STANDARD
DTSTART:19700101T000000
TZOFFSETFROM:+0000
TZOFFSETTO:+0000
TZNAME:UTC
END:STANDARD
END:VTIMEZONE
BEGIN:VEVENT
DTSTAMP:20260420T094744Z
UID:04bbda20-d97c-48d1-90f4-3d1a4d6f16f4
DTSTART:20250919T010000Z
DTEND:20250919T040000Z
DESCRIPTION:AD2L
SUMMARY:Random Gaming vs. Disinformation Campaign
URL:http://dota.playon.gg/matches/19600
END:VEVENT
BEGIN:VEVENT
DTSTAMP:20260420T094744Z
UID:02ca210f-70e7-426b-a4bc-e8e7fbf30b05
DTSTART:20250926T010000Z
DTEND:20250926T040000Z
DESCRIPTION:AD2L
SUMMARY:Random Gaming vs. Jackson 5
URL:http://dota.playon.gg/matches/19649
END:VEVENT
BEGIN:VEVENT
DTSTAMP:20260420T094744Z
UID:711a232f-d629-409c-b786-2e1e7af9e6c3
DTSTART:20251003T010000Z
DTEND:20251003T040000Z
DESCRIPTION:AD2L
SUMMARY:Random Gaming vs. The Last Of Us
URL:http://dota.playon.gg/matches/19686
END:VEVENT
BEGIN:VEVENT
DTSTAMP:20260420T094744Z
UID:20a8a497-73f8-49b8-8be2-434741637ad2
DTSTART:20251010T010000Z
DTEND:20251010T040000Z
DESCRIPTION:AD2L
SUMMARY:Random Gaming vs. Savage Sabres
URL:http://dota.playon.gg/matches/19712
END:VEVENT
BEGIN:VEVENT
DTSTAMP:20260420T094744Z
UID:845e12c6-da2f-402a-b875-d4670458e965
DTSTART:20251024T010000Z
DTEND:20251024T040000Z
DESCRIPTION:AD2L
SUMMARY:Random Gaming vs. Challenger Bye Week
URL:http://dota.playon.gg/matches/19780
END:VEVENT
BEGIN:VEVENT
DTSTAMP:20260420T094744Z
UID:740699df-b906-414b-aa42-fb589b9a413d
DTSTART:20251031T010000Z
DTEND:20251031T040000Z
DESCRIPTION:AD2L
SUMMARY:Random Gaming vs. Josh A. F.A.F.O
URL:http://dota.playon.gg/matches/19805
END:VEVENT
BEGIN:VEVENT
DTSTAMP:20260420T094744Z
UID:244bbb48-d0d7-45a9-87a1-868506b5afbb
DTSTART:20251114T020000Z
DTEND:20251114T050000Z
DESCRIPTION:AD2L
SUMMARY:Random Gaming vs. Solar Gravity
URL:http://dota.playon.gg/matches/19845
END:VEVENT
BEGIN:VEVENT
DTSTAMP:20260420T094744Z
UID:dfbc3fa8-85bf-4c19-8c34-20eec03e4c76
DTSTART:20260116T020000Z
DTEND:20260116T050000Z
DESCRIPTION:AD2L
SUMMARY:Random Gaming vs. Solar Gravity
URL:http://dota.playon.gg/matches/19902
END:VEVENT
BEGIN:VEVENT
DTSTAMP:20260420T094744Z
UID:f8e66cd1-45c2-47a9-a67d-e29832d41a17
DTSTART:20260123T020000Z
DTEND:20260123T050000Z
DESCRIPTION:AD2L
SUMMARY:Random Gaming vs. Sharkhorse
URL:http://dota.playon.gg/matches/19956
END:VEVENT
BEGIN:VEVENT
DTSTAMP:20260420T094744Z
UID:ad031fee-e41b-4573-a701-f9e2c368fd6e
DTSTART:20260130T020000Z
DTEND:20260130T050000Z
DESCRIPTION:AD2L
SUMMARY:Random Gaming vs. Savage Sabres
URL:http://dota.playon.gg/matches/19975
END:VEVENT
BEGIN:VEVENT
DTSTAMP:20260420T094744Z
UID:18303ae6-1dc4-4b18-9a58-dd2bb8bacef5
DTSTART:20260220T020000Z
DTEND:20260220T050000Z
DESCRIPTION:AD2L
SUMMARY:Random Gaming vs. Disinformation Campaign
URL:http://dota.playon.gg/matches/20113
END:VEVENT
BEGIN:VEVENT
DTSTAMP:20260420T094744Z
UID:4b21a2e2-30c2-4e1b-ba82-eabea794e05a
DTSTART:20260227T020000Z
DTEND:20260227T050000Z
DESCRIPTION:AD2L
SUMMARY:Random Gaming vs. BREAKING UP THE CHALLENGER UNCONTESTED MONOPOLIES
  (a daddy's dictatorship tale pt.2)
URL:http://dota.playon.gg/matches/20125
END:VEVENT
BEGIN:VEVENT
DTSTAMP:20260420T094744Z
UID:115c1179-62b9-4149-8368-3139c89d8d92
DTSTART:20251017T010000Z
DTEND:20251017T040000Z
DESCRIPTION:AD2L
SUMMARY:Solar Gravity vs. Random Gaming
URL:http://dota.playon.gg/matches/19735
END:VEVENT
BEGIN:VEVENT
DTSTAMP:20260420T094744Z
UID:cae461b2-4f32-46dc-8aed-4728134d129f
DTSTART:20260206T020000Z
DTEND:20260206T050000Z
DESCRIPTION:AD2L
SUMMARY:Challenger Bye Week vs. Random Gaming
URL:http://dota.playon.gg/matches/20018
END:VEVENT
BEGIN:VEVENT
DTSTAMP:20260420T094744Z
UID:ad016b3b-0605-4e04-9e4f-a8cc821a3691
DTSTART:20260213T020000Z
DTEND:20260213T050000Z
DESCRIPTION:AD2L
SUMMARY:Cyber Cloud vs. Random Gaming
URL:http://dota.playon.gg/matches/20049
END:VEVENT
END:VCALENDAR
