BEGIN:VCALENDAR
VERSION:2.0
PRODID:icalendar-ruby
CALSCALE:GREGORIAN
BEGIN:VTIMEZONE
TZID:UTC
BEGIN:STANDARD
DTSTART:19700101T000000
TZOFFSETFROM:+0000
TZOFFSETTO:+0000
TZNAME:UTC
END:STANDARD
END:VTIMEZONE
BEGIN:VEVENT
DTSTAMP:20260420T192301Z
UID:b61fab80-608d-4540-b33d-53cf15f71920
DTSTART:20260116T020000Z
DTEND:20260116T050000Z
DESCRIPTION:AD2L
SUMMARY:PCF All Stars vs. John Wick's Dog
URL:http://dota.playon.gg/matches/19905
END:VEVENT
BEGIN:VEVENT
DTSTAMP:20260420T192301Z
UID:7d9c4abf-febd-420a-844d-ad2baed95c8a
DTSTART:20260130T020000Z
DTEND:20260130T050000Z
DESCRIPTION:AD2L
SUMMARY:PCF All Stars vs. United Egirl Emirates
URL:http://dota.playon.gg/matches/19983
END:VEVENT
BEGIN:VEVENT
DTSTAMP:20260420T192301Z
UID:da94ca77-dba7-46b5-a052-f0521dc4bcea
DTSTART:20260206T020000Z
DTEND:20260206T050000Z
DESCRIPTION:AD2L
SUMMARY:PCF All Stars vs. Not Quite Largo's Tempo
URL:http://dota.playon.gg/matches/20019
END:VEVENT
BEGIN:VEVENT
DTSTAMP:20260420T192301Z
UID:a659b501-9cd3-4563-84e3-e36a1ec06558
DTSTART:20260213T020000Z
DTEND:20260213T050000Z
DESCRIPTION:AD2L
SUMMARY:PCF All Stars vs. Dark Horse Storm
URL:http://dota.playon.gg/matches/20055
END:VEVENT
BEGIN:VEVENT
DTSTAMP:20260420T192301Z
UID:098818a7-419d-4135-83d3-6e1f3abe4a50
DTSTART:20260220T020000Z
DTEND:20260220T050000Z
DESCRIPTION:AD2L
SUMMARY:PCF All Stars vs. Warrior Bye Week
URL:http://dota.playon.gg/matches/20090
END:VEVENT
BEGIN:VEVENT
DTSTAMP:20260420T192301Z
UID:62a504f0-ce53-40d3-a4b6-e1907dc5c7dd
DTSTART:20260227T020000Z
DTEND:20260227T050000Z
DESCRIPTION:AD2L
SUMMARY:PCF All Stars vs. Doofenjorts Jean Shorts Incorporated
URL:http://dota.playon.gg/matches/20130
END:VEVENT
BEGIN:VEVENT
DTSTAMP:20260420T192301Z
UID:f3de8edc-9847-45bf-a6c8-4147b255e9e8
DTSTART:20260313T010000Z
DTEND:20260313T040000Z
DESCRIPTION:AD2L
SUMMARY:PCF All Stars vs. Jackson 5
URL:http://dota.playon.gg/matches/20174
END:VEVENT
BEGIN:VEVENT
DTSTAMP:20260420T192301Z
UID:39723955-781a-4022-8ec1-9f3e1e2cfb46
DTSTART:20260320T010000Z
DTEND:20260320T040000Z
DESCRIPTION:AD2L
SUMMARY:PCF All Stars vs. Doofenjorts Jean Shorts Incorporated
URL:http://dota.playon.gg/matches/20178
END:VEVENT
BEGIN:VEVENT
DTSTAMP:20260420T192301Z
UID:5cc613c9-cda5-4c38-9d40-175fdefb7eeb
DTSTART:20260227T010000Z
DTEND:20260227T040000Z
DESCRIPTION:AD2L
SUMMARY:PCF All Stars vs. United Egirl Emirates
URL:http://dota.playon.gg/matches/20180
END:VEVENT
BEGIN:VEVENT
DTSTAMP:20260420T192301Z
UID:60f6cc6c-4b63-4b37-a009-afe81594f281
DTSTART:20260123T020000Z
DTEND:20260123T050000Z
DESCRIPTION:AD2L
SUMMARY:Jackson 5 vs. PCF All Stars
URL:http://dota.playon.gg/matches/19962
END:VEVENT
END:VCALENDAR
